BEGIN:VCALENDAR
VERSION:2.0
PRODID:-//History of Women Philosophers and Scientists - ECPv6.15.18//NONSGML v1.0//EN
CALSCALE:GREGORIAN
METHOD:PUBLISH
X-ORIGINAL-URL:https://historyofwomenphilosophers.org
X-WR-CALDESC:Events for History of Women Philosophers and Scientists
REFRESH-INTERVAL;VALUE=DURATION:PT1H
X-Robots-Tag:noindex
X-PUBLISHED-TTL:PT1H
BEGIN:VTIMEZONE
TZID:Europe/Berlin
BEGIN:DAYLIGHT
TZOFFSETFROM:+0100
TZOFFSETTO:+0200
TZNAME:CEST
DTSTART:20130331T010000
END:DAYLIGHT
BEGIN:STANDARD
TZOFFSETFROM:+0200
TZOFFSETTO:+0100
TZNAME:CET
DTSTART:20131027T010000
END:STANDARD
BEGIN:DAYLIGHT
TZOFFSETFROM:+0100
TZOFFSETTO:+0200
TZNAME:CEST
DTSTART:20140330T010000
END:DAYLIGHT
BEGIN:STANDARD
TZOFFSETFROM:+0200
TZOFFSETTO:+0100
TZNAME:CET
DTSTART:20141026T010000
END:STANDARD
BEGIN:DAYLIGHT
TZOFFSETFROM:+0100
TZOFFSETTO:+0200
TZNAME:CEST
DTSTART:20150329T010000
END:DAYLIGHT
BEGIN:STANDARD
TZOFFSETFROM:+0200
TZOFFSETTO:+0100
TZNAME:CET
DTSTART:20151025T010000
END:STANDARD
END:VTIMEZONE
BEGIN:VEVENT
DTSTART;TZID=Europe/Berlin:20140509T160000
DTEND;TZID=Europe/Berlin:20140509T180000
DTSTAMP:20260420T003744
CREATED:20170905T131739Z
LAST-MODIFIED:20170905T131820Z
UID:2717-1399651200-1399658400@historyofwomenphilosophers.org
SUMMARY:Philosophischer Frauensalon - „Über die Folgen der Legalisierung der Prostitution in Deutschland“
DESCRIPTION:Universität Paderborn\nInstitut für Humanwissenschaften – Philosophie\nLehrstuhl für Praktische Philosophie – Prof. Dr. R. Hagengruber \nPHILOSOPHISCHER FRAUENSALON \nAm 09.05.14 um 16 Uhr eröffnet Elke Süsselbeck\, Rechtsanwältin in Paderborn\, die Sommersaison 2014 des philosophischen Frauensalons mit einen Vortrag zum Thema: „Über die Folgen der Legalisierung der Prostitution in Deutschland“. \nDer Vortrag umfasst zum einen eine juristische Bewertung des Prostitutionsgesetzes und dessen rechtliche Folgen für Deutschland. Zum anderen wird die bestehende Rechtslage Deutschlands im europäischen Verbund dargestellt. \nInhaltlich diskutiert wird der gesellschaftliche Umgang mit dem Thema Prostitution: Kann Prostitution ein gesellschaftlich akzeptables Rezept gegen Frauenarmut sein oder ist sie Ausdruck einer patriarchalen Unterdrückung der Frau? \nDer Vortrag von Frau Süsselbeck wird durch Beiträge von Frau Dr. Stefanie Kleine\, Chirurgin am Krankenhaus Bad Driburg\, ergänzt. So werfen sie einen feministischen Blick auf den bestehenden Prostitutionsmarkt in Paderborn. Dieser wird ergänzt durch Ausführungen von Frau Kleine bezüglich der örtlichen Ausstiegshilfen für Prostituierte. \nDer Impulsvortrag mit anschließender Diskussion findet wie alle Vorträge des philosophischen Frauensalons im Café Röhren an der Mühlenstraße in Paderborn statt. \nAlle Interessierten sind zu dieser offenen Veranstaltung herzlich eingeladen!
URL:https://historyofwomenphilosophers.org/event/philosophischer-frauensalon-uber-die-folgen-der-legalisierung-der-prostitution-in-deutschland/
LOCATION:Cafe Röhren\, Mühlenstr. 10\, Paderborn\, Germany
CATEGORIES:Workshop
ATTACH;FMTTYPE=image/jpeg:https://historyofwomenphilosophers.org/wp-content/uploads/2017/09/10384225_937176566308296_8275374478072381140_n.jpg
ORGANIZER;CN="Center for the History of Women Philosophers and Scientists":MAILTO:contact@historyofwomenphilosophers.org
END:VEVENT
BEGIN:VEVENT
DTSTART;TZID=Europe/Berlin:20140509T193000
DTEND;TZID=Europe/Berlin:20140509T210000
DTSTAMP:20260420T003744
CREATED:20170905T131159Z
LAST-MODIFIED:20221219T141047Z
UID:2712-1399663800-1399669200@historyofwomenphilosophers.org
SUMMARY:Wittgensteins Welten: 125 Jahre Wittgenstein – Philosophie im Theater\, in der Musik und im Film
DESCRIPTION:Anlässlich des 125. Geburtstags des österreichischen Philosophen Ludwig Wittgenstein wird am Freitag\, 09.05.2014\, um 19:30 Uhr im Audimax der Universität Paderborn die multimediale Produktion „Wittgensteins Welten“ präsentiert. Diese findet im Rahmen des interdisziplinären Projekts „Philosophie als Beruf“ statt\, das von Prof. Dr. Dr. G. E. Ortner\, dem Begründer der Musica Sacra\, U. Lettermann und Prof. Dr. R. Hagengruber ins Leben gerufen wurde. Ihr Anliegen ist es\, die Philosophie der breiten Öffentlichkeit zugänglich zu machen. \nDie beiden Produzenten\, Künstler und Akteure\, Gero Friedrich und Uli Lettermann\, bezeichnen ihre Text-Ton-Montage als „virtuelles Oratorium“\, in dessen Mittelpunkt der österreichische Philosoph Ludwig Wittgenstein steht. Wittgensteins Lebensgeschichte wird über eine verdichtete Montage seiner zeitgenössischen Musik geschrieben. Dieses „virtuelle Oratorium“ verbindet das gesprochene Wort und die Musik\, die konzertant dargeboten werden – live und eingespielt. Projektionen\, die durch ein symbolisches Bühnenbild eingerahmt werden\, szenische Elemente und eine authentische Live-Rezitation werden durch musikalische Improvisationen melodramatisch ergänzt. \nWer diesem großen Philosophen ans Ende des Denkbaren oder aber auch staunend der Darbietung folgen möchte\, ist herzlich eingeladen\, dieser freien und einmaligen Veranstaltung beizuwohnen.
URL:https://historyofwomenphilosophers.org/event/wittgensteins-welten-125-jahre-wittgenstein-philosophie-im-theater-in-der-musik-und-im-film/
LOCATION:Paderborn University
CATEGORIES:Play
ATTACH;FMTTYPE=image/jpeg:https://historyofwomenphilosophers.org/wp-content/uploads/2017/09/1399636_897341310291822_2065170757129524344_o.jpg
ORGANIZER;CN="Center for the History of Women Philosophers and Scientists":MAILTO:contact@historyofwomenphilosophers.org
END:VEVENT
END:VCALENDAR