BEGIN:VCALENDAR
VERSION:2.0
PRODID:-//History of Women Philosophers and Scientists - ECPv6.15.20//NONSGML v1.0//EN
CALSCALE:GREGORIAN
METHOD:PUBLISH
X-WR-CALNAME:History of Women Philosophers and Scientists
X-ORIGINAL-URL:https://historyofwomenphilosophers.org
X-WR-CALDESC:Events for History of Women Philosophers and Scientists
REFRESH-INTERVAL;VALUE=DURATION:PT1H
X-Robots-Tag:noindex
X-PUBLISHED-TTL:PT1H
BEGIN:VTIMEZONE
TZID:Europe/Berlin
BEGIN:DAYLIGHT
TZOFFSETFROM:+0100
TZOFFSETTO:+0200
TZNAME:CEST
DTSTART:20120325T010000
END:DAYLIGHT
BEGIN:STANDARD
TZOFFSETFROM:+0200
TZOFFSETTO:+0100
TZNAME:CET
DTSTART:20121028T010000
END:STANDARD
BEGIN:DAYLIGHT
TZOFFSETFROM:+0100
TZOFFSETTO:+0200
TZNAME:CEST
DTSTART:20130331T010000
END:DAYLIGHT
BEGIN:STANDARD
TZOFFSETFROM:+0200
TZOFFSETTO:+0100
TZNAME:CET
DTSTART:20131027T010000
END:STANDARD
BEGIN:DAYLIGHT
TZOFFSETFROM:+0100
TZOFFSETTO:+0200
TZNAME:CEST
DTSTART:20140330T010000
END:DAYLIGHT
BEGIN:STANDARD
TZOFFSETFROM:+0200
TZOFFSETTO:+0100
TZNAME:CET
DTSTART:20141026T010000
END:STANDARD
END:VTIMEZONE
BEGIN:VEVENT
DTSTART;VALUE=DATE:20130804
DTEND;VALUE=DATE:20130805
DTSTAMP:20260423T010210
CREATED:20170908T132128Z
LAST-MODIFIED:20221219T124649Z
UID:2820-1375574400-1375660799@historyofwomenphilosophers.org
SUMMARY:History of Women Philosophers at World Congress of Philosophy
DESCRIPTION:We encourage you to send papers concerning the history of women philosophers to Section 29\, ‘Philosophical Approaches to Gender’\, which is co-chaired by Herta Nagl-Docekal. Deadline: March 1\, 2013; papers should not exceed 6 pages in length
URL:https://historyofwomenphilosophers.org/event/history-of-women-philosophers-at-world-congress-of-philosophy-athens/
LOCATION:Athens\, Greece
CATEGORIES:Conference
ORGANIZER;CN="Center for the History of Women Philosophers and Scientists":MAILTO:contact@historyofwomenphilosophers.org
END:VEVENT
BEGIN:VEVENT
DTSTART;VALUE=DATE:20130712
DTEND;VALUE=DATE:20130713
DTSTAMP:20260423T010210
CREATED:20170908T132341Z
LAST-MODIFIED:20221219T123633Z
UID:2826-1373587200-1373673599@historyofwomenphilosophers.org
SUMMARY:The Art of Nature and the Nature of Art
DESCRIPTION:The Tenth Biennial Margaret Cavendish Society International Conference
URL:https://historyofwomenphilosophers.org/event/the-art-of-nature-and-the-nature-of-art/
LOCATION:Sundance Resort\, Utah\, United States
CATEGORIES:Conference
END:VEVENT
BEGIN:VEVENT
DTSTART;TZID=Europe/Berlin:20130708T160000
DTEND;TZID=Europe/Berlin:20130708T180000
DTSTAMP:20260423T010210
CREATED:20170908T132843Z
LAST-MODIFIED:20221219T123544Z
UID:2832-1373299200-1373306400@historyofwomenphilosophers.org
SUMMARY:History of Women Philosophers – World Congress of Philosophy
DESCRIPTION:Good Philosophy for a Good Life! Why it is necessary to research the history of women philosophers.\nRuth Hagengruber (Germany) \nA Gendered view of Liberty? Some Women Philosophers from Cavendish to Wollstonecraft\nSarah Hutton (UK) \nMary Wollstonecraft’s Critique of J-J Rousseau\nMartina Reuter (Finland) \nPhilosophy’s First Hysterectomy: Diotima of Mantinea\nMary Ellen Waithe (USA)\n(den Hegel-Vortrag nicht)
URL:https://historyofwomenphilosophers.org/event/history-of-women-philosophers-world-congress-of-philosophy/
LOCATION:National an Kapodistrian University\, Mikras Asias 75\, Athens\, Greece
CATEGORIES:Workshop
ORGANIZER;CN="Center for the History of Women Philosophers and Scientists":MAILTO:contact@historyofwomenphilosophers.org
END:VEVENT
BEGIN:VEVENT
DTSTART;TZID=Europe/Berlin:20130705T160000
DTEND;TZID=Europe/Berlin:20130705T180000
DTSTAMP:20260423T010210
CREATED:20170908T133738Z
LAST-MODIFIED:20170911T124829Z
UID:2839-1373040000-1373047200@historyofwomenphilosophers.org
SUMMARY:Philosophischer Frauensalon - "Imaginationsräume des Weiblichen in der Literatur"
DESCRIPTION:Am 05.07.13 um 16 Uhr beschließt Frau Prof. Dr. Claudia Öhlschläger das Sommerprogramm des Philosophischen Frauensalons mit einem Vortrag zum Thema “Imaginationsräume des Weiblichen in der Literatur”. Frau Öhlschläger wird einen kurzen Prosatext der Gegenwartsautorin Brigitte Kronauer vorstellen und die Diskussion mit einigen Überlegungen eröffnen. Folgende Fragen werden zur Diskussion gestellt: Wie gestaltet Literatur die ´Urszene´ weiblichen Schreibens? Welche Imaginationsräume von Weiblichkeit entwirft Literatur? \nVeranstaltungsort ist das Café Röhren an der Mühlenstraße in Paderborn. \nDer Philosophische Frauensalon ist eine Initiative des Lehrstuhls für Praktische Philosophie der Universität Paderborn. Lehrstuhlinhaberin Prof. Dr. Ruth Hagengruber möchte mit diesem Salon ein Forum schaffen\, in dem der akademische Diskurs um Frauen- bzw. Geschlechterfragen einer breiteren Öffentlichkeit eröffnet und zur Diskussion gestellt wird. \nKooperationspartner sind das Archiv für Philosophinnen\, das Projekt In der Philosophie zu Hause\, der Frauenprojektbereich MIA\, die Ortsgruppe des Deutschen Akademikerinnenbundes und die Gleichstellungsstelle der Stadt Paderborn. \nAlle Interessierten beiderlei Geschlechts sind herzlich eingeladen!
URL:https://historyofwomenphilosophers.org/event/philosophischer-frauensalon-imaginationsraume-des-weiblichen-in-der-literatur/
LOCATION:Cafe Röhren\, Mühlenstr. 10\, Paderborn\, Germany
CATEGORIES:Reading
ATTACH;FMTTYPE=image/jpeg:https://historyofwomenphilosophers.org/wp-content/uploads/2017/09/942651_676787975680491_829135673_n.jpg
ORGANIZER;CN="Center for the History of Women Philosophers and Scientists":MAILTO:contact@historyofwomenphilosophers.org
END:VEVENT
BEGIN:VEVENT
DTSTART;TZID=Europe/Berlin:20130607T160000
DTEND;TZID=Europe/Berlin:20130607T180000
DTSTAMP:20260423T010210
CREATED:20170908T134004Z
LAST-MODIFIED:20170911T124445Z
UID:2844-1370620800-1370628000@historyofwomenphilosophers.org
SUMMARY:Philosophischer Frauensalon - "Ist die Armut weiblich? Schlaglichter auf Geschlechtsbezogene Armutsrisiken"
DESCRIPTION:Am 07.06.13 um 16 Uhr hält Herr Dipl. theol. Wolfgang Walter im Philosophischen Frauensalon einen Vortrag zum Thema: “Ist die Armut weiblich? Schlaglichter auf Geschlechtsbezogene Armutsrisiken”. Dieser Vortrag mit anschließender Diskussionsrunde findet wie bisher alle Veranstaltungen des Philosophischen Frauensalons im Café Röhren an der Mühlenstraße in Paderborn statt. \nDer Philosophische Frauensalon ist eine Initiative des Lehrstuhls für Praktische Philosophie der Universität Paderborn. Lehrstuhlinhaberin Prof. Dr. Ruth Hagengruber möchte mit diesem Salon ein Forum schaffen\, in dem der akademische Diskurs um Frauen- bzw. Geschlechterfragen einer breiteren Öffentlichkeit eröffnet und zur Diskussion gestellt wird. \nKooperationspartner sind das Archiv für Philosophinnen\, das Projekt In der Philosophie zu Hause\, der Frauenprojektbereich MIA\, die Ortsgruppe des Deutschen Akademikerinnenbundes und die Gleichstellungsstelle der Stadt Paderborn. \nAlle Interessierten beiderlei Geschlechts sind herzlich eingeladen!
URL:https://historyofwomenphilosophers.org/event/philosophischer-frauensalon-ist-die-armut-weiblich-schlaglichter-auf-geschlechtsbezogene-armutsrisiken/
LOCATION:Cafe Röhren\, Mühlenstr. 10\, Paderborn\, Germany
CATEGORIES:Reading
ATTACH;FMTTYPE=image/jpeg:https://historyofwomenphilosophers.org/wp-content/uploads/2017/09/942651_676787975680491_829135673_n.jpg
ORGANIZER;CN="Center for the History of Women Philosophers and Scientists":MAILTO:contact@historyofwomenphilosophers.org
END:VEVENT
BEGIN:VEVENT
DTSTART;TZID=Europe/Berlin:20130503T160000
DTEND;TZID=Europe/Berlin:20130503T180000
DTSTAMP:20260423T010210
CREATED:20170908T134430Z
LAST-MODIFIED:20170911T124137Z
UID:2848-1367596800-1367604000@historyofwomenphilosophers.org
SUMMARY:Philosophischer Frauensalon - „Paarbeziehungen im Mittelalter. Geschlechterbeziehungen und Herrschaftsverhältnisse“
DESCRIPTION:Am 03.05.13 um 16 Uhr eröffnet Frau Dr. Stefanie Dick (Universität Kassel) das Sommerprogramm des Philosophischen Frauensalons mit einem Vortrag zum Thema: „Paarbeziehungen im Mittelalter. Geschlechterbeziehungen und Herrschaftsverhältnisse“. Dieser Vortrag mit anschließender Diskussionsrunde findet wie bereits die Auftaktveranstaltung am 1.2.13 und nun alle weiteren Veranstaltungen des Philosophischen Frauensalons im Café Röhren an der Mühlenstraße in Paderborn statt. \nDer Philosophische Frauensalon ist eine Initiative des Lehrstuhls für Praktische Philosophie der Universität Paderborn. Lehrstuhlinhaberin Prof. Dr. Ruth Hagengruber möchte mit diesem Salon ein Forum schaffen\, in dem der akademische Diskurs um Frauen- bzw. Geschlechterfragen einer breiteren Öffentlichkeit eröffnet und zur Diskussion gestellt wird. \nKooperationspartner sind das Archiv für Philosophinnen\, das Projekt In der Philosophie zu Hause\, der Frauenprojektbereich MIA\, die Ortsgruppe des Deutschen Akademikerinnenbundes und die Gleichstellungsstelle der Stadt Paderborn. \nAlle Interessierten sind herzlich eingeladen!
URL:https://historyofwomenphilosophers.org/event/philosophischer-frauensalon-paarbeziehungen-im-mittelalter-geschlechterbeziehungen-und-herrschaftsverhaltnisse/
LOCATION:Cafe Röhren\, Mühlenstr. 10\, Paderborn\, Germany
CATEGORIES:Reading
ATTACH;FMTTYPE=image/jpeg:https://historyofwomenphilosophers.org/wp-content/uploads/2017/09/942651_676787975680491_829135673_n.jpg
ORGANIZER;CN="Center for the History of Women Philosophers and Scientists":MAILTO:contact@historyofwomenphilosophers.org
END:VEVENT
END:VCALENDAR