BEGIN:VCALENDAR
VERSION:2.0
PRODID:-//History of Women Philosophers and Scientists - ECPv6.15.20//NONSGML v1.0//EN
CALSCALE:GREGORIAN
METHOD:PUBLISH
X-WR-CALNAME:History of Women Philosophers and Scientists
X-ORIGINAL-URL:https://historyofwomenphilosophers.org
X-WR-CALDESC:Events for History of Women Philosophers and Scientists
REFRESH-INTERVAL;VALUE=DURATION:PT1H
X-Robots-Tag:noindex
X-PUBLISHED-TTL:PT1H
BEGIN:VTIMEZONE
TZID:Europe/Berlin
BEGIN:DAYLIGHT
TZOFFSETFROM:+0100
TZOFFSETTO:+0200
TZNAME:CEST
DTSTART:20130331T010000
END:DAYLIGHT
BEGIN:STANDARD
TZOFFSETFROM:+0200
TZOFFSETTO:+0100
TZNAME:CET
DTSTART:20131027T010000
END:STANDARD
BEGIN:DAYLIGHT
TZOFFSETFROM:+0100
TZOFFSETTO:+0200
TZNAME:CEST
DTSTART:20140330T010000
END:DAYLIGHT
BEGIN:STANDARD
TZOFFSETFROM:+0200
TZOFFSETTO:+0100
TZNAME:CET
DTSTART:20141026T010000
END:STANDARD
BEGIN:DAYLIGHT
TZOFFSETFROM:+0100
TZOFFSETTO:+0200
TZNAME:CEST
DTSTART:20150329T010000
END:DAYLIGHT
BEGIN:STANDARD
TZOFFSETFROM:+0200
TZOFFSETTO:+0100
TZNAME:CET
DTSTART:20151025T010000
END:STANDARD
END:VTIMEZONE
BEGIN:VEVENT
DTSTART;TZID=Europe/Berlin:20140315T100000
DTEND;TZID=Europe/Berlin:20140315T150000
DTSTAMP:20260422T162349
CREATED:20170908T120837Z
LAST-MODIFIED:20221219T130156Z
UID:2745-1394877600-1394895600@historyofwomenphilosophers.org
SUMMARY:Workshop zu Elisabeth von Böhmen
DESCRIPTION:Prof. Dr. Hagengruber ist Professorin für Philosophie an der Universität Paderborn. Sie baut an der Universität Paderborn ein Archiv über die Philosophinnen auf. Dort werden Schriften von und über Philosophinnen von der Antike bis in die Gegenwart gesammelt.\nIn ihrem Buch “Von Diana zu Minerva – Philosophierende Aristokratinnen des 17. und 18. Jahrhunderts” werden deutsche Aristokratinnen und Philosophinnen vorgestellt. Die berühmteste von ihnen kommt aus Herford. Elisabeth von der Pfalz ist international auch bekannt als Elisabeth von Böhmen. \n“In Amerika wird aus ihren Schriften gelehrt”\, so Ruth Hagengruber\, die noch nicht einmal in die deutsche Sprache übersetzt seien. Elisabeth lebte als Äbtissin des Frauenstifts in Herford. \nHagengruber: “Sie war eine wichtige Partnerin des Philosophen René Descartes und steht am Anfang einer Tradition philosophierender Aristokratinnen des 17. und 18. Jahrhunderts.” Es gab ein großes Netzwerk\, in dem sich diese Aristokratinnen bewegten. Es reichte nach London\, Paris und Berlin. Elisabeth von der Pfalz beschäftigte die Frage\, weshalb Frauen zwar regieren dürften\, die Klügeren aber nicht sein sollten. Elisabeth war in ihrer Zeit kein Einzelphänomen. Sie war eine unter vielen jungen Frauen\, die ein verändertes weibliches Selbstbild artikulierten. Dazu gehörte auch Anna Maria Schurmann\, die ebenfalls in Herford lebte. \nWarum die weiblichen Philosophinnen nach und nach aus dem öffentlichen Geschichtsbewusstsein getilgt und viele ihrer Ideen einfach männlichen Philosophen zugeschrieben worden seien\, beantwortet Prof. Hagengruber mit einem Verweis in die Geschichte: “Es gab immer Zeiten\, in denen die Frauen aus der Öffentlichkeit ausgeschlossen wurden\, und Zeiten\, in denen sie bedeutende öffentliche Aufgaben wahrgenommen haben. In der griechischen Antike\, in der Renaissance und auch heute gibt es diesen Aufschwung für die Frauen.”
URL:https://historyofwomenphilosophers.org/event/workshop-zu-elisabeth-von-bohmen/
LOCATION:VHS/ Herford\, Münsterkirchplatz 1\, Herford\, Germany
CATEGORIES:Workshop
ORGANIZER;CN="Center for the History of Women Philosophers and Scientists":MAILTO:contact@historyofwomenphilosophers.org
END:VEVENT
BEGIN:VEVENT
DTSTART;TZID=Europe/Berlin:20140321T103000
DTEND;TZID=Europe/Berlin:20140321T150000
DTSTAMP:20260422T162349
CREATED:20170908T120350Z
LAST-MODIFIED:20170912T121614Z
UID:2739-1395397800-1395414000@historyofwomenphilosophers.org
SUMMARY:"Domestic Violence Met by Educated Women"
DESCRIPTION:Within the Grundtvig-Lifelong Learning Programme of the EU\, the German Women‘s Academic Society and the University of Paderborn present the international Workshop on “Domestic Violence Met by Educated Women”. \n10:30-11:30\nDr. Jarmila Mildorf (University of Paderborn)\n“Domestic Violence\, Gender\, and Professionalism: The Case of Medical Practice” \n11:45-12:45\nProf. Dr. Elisabeth De Sotelo (University of Koblenz)\n“Women‘s Movements in Europe to Combat Violence Against Women” \n14:00-15:00\nDr. Sandra Glammeier (University of Paderborn)\n“The Relationship Between Violence Against Women\, Gender and Power” \nThe talks are part of a two-day project meeting\, in which experts from Sweden\, Finland\, Romania\, Slowenia and Germany discuss possibilities of preventing Domestic Violence Against Educated Women. \nThe talks are given at the University of Paderborn in room: E5.333
URL:https://historyofwomenphilosophers.org/event/domestic-violence-met-by-educated-women/
LOCATION:Paderborn University
CATEGORIES:Workshop
ATTACH;FMTTYPE=image/jpeg:https://historyofwomenphilosophers.org/wp-content/uploads/2017/09/1901203_851437268215560_888551543_n.jpg
ORGANIZER;CN="Center for the History of Women Philosophers and Scientists":MAILTO:contact@historyofwomenphilosophers.org
END:VEVENT
END:VCALENDAR