BEGIN:VCALENDAR
VERSION:2.0
PRODID:-//History of Women Philosophers and Scientists - ECPv6.15.20//NONSGML v1.0//EN
CALSCALE:GREGORIAN
METHOD:PUBLISH
X-WR-CALNAME:History of Women Philosophers and Scientists
X-ORIGINAL-URL:https://historyofwomenphilosophers.org
X-WR-CALDESC:Events for History of Women Philosophers and Scientists
REFRESH-INTERVAL;VALUE=DURATION:PT1H
X-Robots-Tag:noindex
X-PUBLISHED-TTL:PT1H
BEGIN:VTIMEZONE
TZID:Europe/Berlin
BEGIN:DAYLIGHT
TZOFFSETFROM:+0100
TZOFFSETTO:+0200
TZNAME:CEST
DTSTART:20170326T010000
END:DAYLIGHT
BEGIN:STANDARD
TZOFFSETFROM:+0200
TZOFFSETTO:+0100
TZNAME:CET
DTSTART:20171029T010000
END:STANDARD
BEGIN:DAYLIGHT
TZOFFSETFROM:+0100
TZOFFSETTO:+0200
TZNAME:CEST
DTSTART:20180325T010000
END:DAYLIGHT
BEGIN:STANDARD
TZOFFSETFROM:+0200
TZOFFSETTO:+0100
TZNAME:CET
DTSTART:20181028T010000
END:STANDARD
BEGIN:DAYLIGHT
TZOFFSETFROM:+0100
TZOFFSETTO:+0200
TZNAME:CEST
DTSTART:20190331T010000
END:DAYLIGHT
BEGIN:STANDARD
TZOFFSETFROM:+0200
TZOFFSETTO:+0100
TZNAME:CET
DTSTART:20191027T010000
END:STANDARD
END:VTIMEZONE
BEGIN:VEVENT
DTSTART;TZID=Europe/Berlin:20181204T140000
DTEND;TZID=Europe/Berlin:20181204T160000
DTSTAMP:20260422T235445
CREATED:20181122T112357Z
LAST-MODIFIED:20190107T143824Z
UID:9448-1543932000-1543939200@historyofwomenphilosophers.org
SUMMARY:Ana Rodrigues - "Gender und Genre in der Aufklärung: Émilie du Châtelets reaktionäre Aneignung von Bernard de Mandevilles Fable of the Bees"
DESCRIPTION:Emilie Du Châtelet’s works on morals differ in a decisive aspect from her writings on natural philosophy. Whereas the latter as the Dissertation sur la nature et la propagation du feu or the Institutions de physique were published during her lifetime and contributed to the official scientific debate\, her works on morals circulated only as manuscripts and as such were part of a different stream of Enlightenment debate. The respective writings\, her translation of parts of Bernard de Mandeville’s The Fable of the Bees and her Réflexions sur le Bonheur\, are each closely related to the works of philosophers who are widely considered contributors to the debates subsumed under the name of ‘Radical Enlightenment’: Bernard de Mandeville and Julien Offray de La Mettrie. In her talk Ana Rodrigues will present Du Châtelet’s transformation of parts of Mandeville’s Fable of the Bees. Though designated as a translation\, the text eventually turns out an adaptation which\, on the one hand\, contains a radical criticism of Mandeville’s main theses and\, on the other hand\, formulates the foundations of her own moral and social philosophy.
URL:https://historyofwomenphilosophers.org/event/gender-und-genre-in-der-aufklarunng-emilie-du-chatelets-reaktionare-aneignung-von-bernard-de-mandevilles-fable-of-the-bees/
LOCATION:N2.245\, Paderborn University\, Warburger Str. 100\, Paderborn\, Nordrhein-Westfalen\, 33098
CATEGORIES:Talk
ORGANIZER;CN="Center for the History of Women Philosophers and Scientists":MAILTO:contact@historyofwomenphilosophers.org
END:VEVENT
BEGIN:VEVENT
DTSTART;TZID=Europe/Berlin:20181211T160000
DTEND;TZID=Europe/Berlin:20181211T180000
DTSTAMP:20260422T235445
CREATED:20181009T144202Z
LAST-MODIFIED:20181015T113209Z
UID:8556-1544544000-1544551200@historyofwomenphilosophers.org
SUMMARY:Julia Mühl - "Human Beings as Social Beings – Gerda Walther on the Constitution of Human Beings"
DESCRIPTION:
URL:https://historyofwomenphilosophers.org/event/julia-muhl-human-beings-as-social-beings-gerda-walther-on-the-constitution-of-human-beings/
LOCATION:E 2 310\, University Paderborn\, Warburger Str. 100\, Paderborn\, Nordrhein-Westfalen\, 33098\, Germany
CATEGORIES:Colloquium
ORGANIZER;CN="Center for the History of Women Philosophers and Scientists":MAILTO:contact@historyofwomenphilosophers.org
END:VEVENT
BEGIN:VEVENT
DTSTART;TZID=Europe/Berlin:20181218T140000
DTEND;TZID=Europe/Berlin:20181218T160000
DTSTAMP:20260422T235445
CREATED:20181122T113613Z
LAST-MODIFIED:20190107T112423Z
UID:9449-1545141600-1545148800@historyofwomenphilosophers.org
SUMMARY:Andrea Reichenberger - "Émilie du Châtelets Newton-Interpretation: Von den Grundlagen der Physik zur Übersetzung und Kommentierung der Principia"
DESCRIPTION:
URL:https://historyofwomenphilosophers.org/event/andrea-reichenberger-emilie-du-chatelets-newton-interpretation-von-den-grundlagen-der-physik-zur-ubersetzung-und-kommentierung-der-principia/
LOCATION:N2.245\, Paderborn University\, Warburger Str. 100\, Paderborn\, Nordrhein-Westfalen\, 33098
CATEGORIES:Talk
ORGANIZER;CN="Center for the History of Women Philosophers and Scientists":MAILTO:contact@historyofwomenphilosophers.org
END:VEVENT
END:VCALENDAR