BEGIN:VCALENDAR
VERSION:2.0
PRODID:-//History of Women Philosophers and Scientists - ECPv6.15.20//NONSGML v1.0//EN
CALSCALE:GREGORIAN
METHOD:PUBLISH
X-ORIGINAL-URL:https://historyofwomenphilosophers.org
X-WR-CALDESC:Events for History of Women Philosophers and Scientists
REFRESH-INTERVAL;VALUE=DURATION:PT1H
X-Robots-Tag:noindex
X-PUBLISHED-TTL:PT1H
BEGIN:VTIMEZONE
TZID:Europe/Berlin
BEGIN:DAYLIGHT
TZOFFSETFROM:+0100
TZOFFSETTO:+0200
TZNAME:CEST
DTSTART:20160327T010000
END:DAYLIGHT
BEGIN:STANDARD
TZOFFSETFROM:+0200
TZOFFSETTO:+0100
TZNAME:CET
DTSTART:20161030T010000
END:STANDARD
BEGIN:DAYLIGHT
TZOFFSETFROM:+0100
TZOFFSETTO:+0200
TZNAME:CEST
DTSTART:20170326T010000
END:DAYLIGHT
BEGIN:STANDARD
TZOFFSETFROM:+0200
TZOFFSETTO:+0100
TZNAME:CET
DTSTART:20171029T010000
END:STANDARD
BEGIN:DAYLIGHT
TZOFFSETFROM:+0100
TZOFFSETTO:+0200
TZNAME:CEST
DTSTART:20180325T010000
END:DAYLIGHT
BEGIN:STANDARD
TZOFFSETFROM:+0200
TZOFFSETTO:+0100
TZNAME:CET
DTSTART:20181028T010000
END:STANDARD
END:VTIMEZONE
BEGIN:VEVENT
DTSTART;TZID=Europe/Berlin:20170302T190000
DTEND;TZID=Europe/Berlin:20170302T210000
DTSTAMP:20260424T042116
CREATED:20170614T133320Z
LAST-MODIFIED:20170705T143634Z
UID:1206-1488481200-1488488400@historyofwomenphilosophers.org
SUMMARY:Andrea Reichenberger - "On God and Formal Logic"
DESCRIPTION:The Verein für Herforder Geschichte e.V.\, in cooperation with the VHS Herford\, cordially invites you to Dr. Andrea Reichenberger’s talk “On God and Formal Logic” on Elisabeth of Herford’s correspondence with the philosophers of her time. \nElisabeth\, Princess of Herford (1618-1680)\, was a prominent figure in her time as the daughter of the Palatine Elector and Bohemian Winter King Frederick V\, and granddaughter of the English King James I. René Descartes\, with whom Elisabeth had a close friendship\, did not accidentally dedicate his work to her. Elisabeth also had close contacts with Gottfried Wilhelm Leibniz\, Anna Maria van Schurman and other scholars. \nIn 2018 Elisabeth von der Pfalz would have celebrate her 400th birthday. This talk will also stimulate the activities planned in Herford. \nSpeaker: Andrea Reichenberger\, Dr. phil\, is a researcher at the Center for the History of Women Philosophers and Scientists at the University of Paderborn. Her research focuses on women’s research in the history of logic\, mathematics and physics. \nContact:\nE-mail: andrea.reichenberger@upb.de\nWebsite: https://independent.academia.edu/AndreaReichenberger
URL:https://historyofwomenphilosophers.org/event/andrea-reichenberger-on-god-and-formal-logic/
LOCATION:Daniel-Pöppelmann-Haus\, Deichtorwall 2\, Herford\, (NRW)\, 32052\, Germany
CATEGORIES:Talk
ORGANIZER;CN="Verein f%C3%BCr Herforder Geschichte e.V":MAILTO:info@geschichtsverein-herford.de
END:VEVENT
BEGIN:VEVENT
DTSTART;TZID=Europe/Berlin:20170304T150000
DTEND;TZID=Europe/Berlin:20170304T170000
DTSTAMP:20260424T042116
CREATED:20170614T132149Z
LAST-MODIFIED:20221219T141813Z
UID:1199-1488639600-1488646800@historyofwomenphilosophers.org
SUMMARY:Between HeForShe and Misogyny
DESCRIPTION:The HeForShe campaign of the UN sets a historical milestone in the fight for gender equality. The inclusion of men and boys in a movement that once began as women’s fight for human rights shows a fundamental change in the mindset of people: gender equality effects everyone and is in the interest of both\, men and women. \nAt the same time\, however\, as seen in the US presidential election campaign with the “Grab them by the pussy” scandal\, those opposed to gender equality initiated a counter movement that tries to undermine the rising solidarity between men and women. As a consequence\, the movement for gender equality is now facing an unprecedented wave of misogyny. \nOn international women’s day students of the project seminar “Philosophische Geschlechtertheorien” at the University Paderborn present this actual clash of the extremes in a panel discussion.
URL:https://historyofwomenphilosophers.org/event/panel-discussion-between-heforshe-and-misogyny/
LOCATION:Historisches Rathaus\, Rathauspl. 1\, Paderborn\, (NRW)\, 33098\, Germany
CATEGORIES:Panel Discussion,Talk
ATTACH;FMTTYPE=image/jpeg:https://historyofwomenphilosophers.org/wp-content/uploads/2017/06/csm_16997684_1830143977011546_290036495841485681_n_b5e68e469d.jpg
ORGANIZER;CN="In der Philosophie zu Hause (IPH)":MAILTO:ana.rodrigues@uni-paderborn.de
END:VEVENT
BEGIN:VEVENT
DTSTART;TZID=Europe/Berlin:20170308T193000
DTEND;TZID=Europe/Berlin:20170308T213000
DTSTAMP:20260424T042116
CREATED:20170614T130812Z
LAST-MODIFIED:20170705T151738Z
UID:1191-1489001400-1489008600@historyofwomenphilosophers.org
SUMMARY:Andrea Reichenberger - "Luise Lange: Pionierin der Relativitätstheorie"
DESCRIPTION:In the library archive of the Göttingen University\, there is a manuscript on the lecture of the famous mathematician David Hilbert\, titled “Statistical Mechanics” (1914)\, elaborated by Luise Lange (1891-1987). Her name can not be found in dictionaries\, biographies\, bibliographies\, on the Internet\, or in the list of German mathematicians and physicists.\nAndrea Reichenberger will report on her discovery of a remarkable woman and scientist. She follows Luise Lang’s path through Göttingen to New York and Chicago\, from the revolutionary upheavals in physics in the early 20th century to the exciting collaboration between American and Russian mathematicians during the Cold War. Dr. Andrea Reichenberger is a science historian and philosopher of the Paderborn University’s Center for the “History of Women Philosophers and Scientists”. \nSpeaker:\nDr. Andrea Reichenberger\, University of Paderborn
URL:https://historyofwomenphilosophers.org/event/andrea-reichenberger-luise-lange-pionierin-der-relativitaetstheorie/
LOCATION:Hörsaal BiK-F\, Georg-Voigt-Str. 14-16\, Frankfurt\, Germany
CATEGORIES:Talk
END:VEVENT
BEGIN:VEVENT
DTSTART;TZID=Europe/Berlin:20170310T170000
DTEND;TZID=Europe/Berlin:20170310T190000
DTSTAMP:20260424T042116
CREATED:20170613T085207Z
LAST-MODIFIED:20221219T141856Z
UID:1105-1489165200-1489172400@historyofwomenphilosophers.org
SUMMARY:Sandrine Bergès - "Uneducated Nature and Epistemic Authority: How to Talk about Olympe de Gouges in Philosophy Class"
DESCRIPTION:As part of the project Bridging the Gender Gap through Time: How Women Philosophers of the Past have Contributed to Today’s Thought\, Dr. Sandrine Bergès (Bilkent University) gives a talk on the French female philosopher Olympe de Gouges at King’s College London: “Uneducated nature and epistemic authority: how to talk about Olympe de Gouges in philosophy class”. \nLocation: room SW1.17 (Ante Room)\, Somerset House East Wing\, The Dickson Poon School of Law\, King’s College London\, Strand\, WC2R 2LS. \nUnlike her contemporary Mary Wollstonecraft\, Olympe de Gouges valued nature over education. Nature unimpeded\, she argued\, is always good and can serve as a reliable moral guide even for those who are educated. Education\, on the other hand\, corrupts nature. Gouges made this point both by putting herself forward as an uneducated citizen who benefits society\, and by showing how privileging education over nature resulted in severe injustice being perpetrated and against enslaved African people and women. \nEmphasising the fact that women’s philosophical writing is often to be found in non-traditional genres\, I use a variety of texts from her theatre\, political tracts as well as a philosophical discourse to show how Gouges develops this argument and applied it to topics such as women’s condition and slavery. \nAll are very welcome\, including research students interested in learning more about how to publish on the history of women thinkers.
URL:https://historyofwomenphilosophers.org/event/sandrine-berges-uneducated-nature-and-epistemic-authority-how-to-talk-about-olympe-de-gouges-in-philosophy-class/
LOCATION:Room SW1.17 (Ante Room)\, Somerset House East Wing\, WC2R 2LS\, London\, United Kingdom
CATEGORIES:Talk
ORGANIZER;CN="The King's College London":MAILTO:alan.coffee@kcl.ac.uk
END:VEVENT
END:VCALENDAR