BEGIN:VCALENDAR
VERSION:2.0
PRODID:-//History of Women Philosophers and Scientists - ECPv6.15.18//NONSGML v1.0//EN
CALSCALE:GREGORIAN
METHOD:PUBLISH
X-WR-CALNAME:History of Women Philosophers and Scientists
X-ORIGINAL-URL:https://historyofwomenphilosophers.org
X-WR-CALDESC:Events for History of Women Philosophers and Scientists
REFRESH-INTERVAL;VALUE=DURATION:PT1H
X-Robots-Tag:noindex
X-PUBLISHED-TTL:PT1H
BEGIN:VTIMEZONE
TZID:Europe/Berlin
BEGIN:DAYLIGHT
TZOFFSETFROM:+0100
TZOFFSETTO:+0200
TZNAME:CEST
DTSTART:20250330T010000
END:DAYLIGHT
BEGIN:STANDARD
TZOFFSETFROM:+0200
TZOFFSETTO:+0100
TZNAME:CET
DTSTART:20251026T010000
END:STANDARD
BEGIN:DAYLIGHT
TZOFFSETFROM:+0100
TZOFFSETTO:+0200
TZNAME:CEST
DTSTART:20260329T010000
END:DAYLIGHT
BEGIN:STANDARD
TZOFFSETFROM:+0200
TZOFFSETTO:+0100
TZNAME:CET
DTSTART:20261025T010000
END:STANDARD
BEGIN:DAYLIGHT
TZOFFSETFROM:+0100
TZOFFSETTO:+0200
TZNAME:CEST
DTSTART:20270328T010000
END:DAYLIGHT
BEGIN:STANDARD
TZOFFSETFROM:+0200
TZOFFSETTO:+0100
TZNAME:CET
DTSTART:20271031T010000
END:STANDARD
END:VTIMEZONE
BEGIN:VEVENT
DTSTART;TZID=Europe/Berlin:20260702T160000
DTEND;TZID=Europe/Berlin:20260702T180000
DTSTAMP:20260420T184135
CREATED:20260420T121048Z
LAST-MODIFIED:20260420T122131Z
UID:32993-1783008000-1783015200@historyofwomenphilosophers.org
SUMMARY:Colloquium | Dr. Regina Müller on Digital and Health Inequalities: Building Blocks for a Structural Ethics
DESCRIPTION:tba
URL:https://historyofwomenphilosophers.org/event/talk-by-dr-regina-muller-on-digital-and-health-inequalities-building-blocks-for-a-structural-ethics/
LOCATION:Paderborn University\, Warburger Str. 100\, Paderborn\, NRW\, 33098\, Germany
CATEGORIES:Talk
END:VEVENT
END:VCALENDAR