BEGIN:VCALENDAR
VERSION:2.0
PRODID:-//History of Women Philosophers and Scientists - ECPv6.15.18//NONSGML v1.0//EN
CALSCALE:GREGORIAN
METHOD:PUBLISH
X-WR-CALNAME:History of Women Philosophers and Scientists
X-ORIGINAL-URL:https://historyofwomenphilosophers.org
X-WR-CALDESC:Events for History of Women Philosophers and Scientists
REFRESH-INTERVAL;VALUE=DURATION:PT1H
X-Robots-Tag:noindex
X-PUBLISHED-TTL:PT1H
BEGIN:VTIMEZONE
TZID:Europe/Berlin
BEGIN:DAYLIGHT
TZOFFSETFROM:+0100
TZOFFSETTO:+0200
TZNAME:CEST
DTSTART:20250330T010000
END:DAYLIGHT
BEGIN:STANDARD
TZOFFSETFROM:+0200
TZOFFSETTO:+0100
TZNAME:CET
DTSTART:20251026T010000
END:STANDARD
BEGIN:DAYLIGHT
TZOFFSETFROM:+0100
TZOFFSETTO:+0200
TZNAME:CEST
DTSTART:20260329T010000
END:DAYLIGHT
BEGIN:STANDARD
TZOFFSETFROM:+0200
TZOFFSETTO:+0100
TZNAME:CET
DTSTART:20261025T010000
END:STANDARD
BEGIN:DAYLIGHT
TZOFFSETFROM:+0100
TZOFFSETTO:+0200
TZNAME:CEST
DTSTART:20270328T010000
END:DAYLIGHT
BEGIN:STANDARD
TZOFFSETFROM:+0200
TZOFFSETTO:+0100
TZNAME:CET
DTSTART:20271031T010000
END:STANDARD
END:VTIMEZONE
BEGIN:VEVENT
DTSTART;TZID=Europe/Berlin:20260703T110000
DTEND;TZID=Europe/Berlin:20260704T170000
DTSTAMP:20260420T134012
CREATED:20260420T080305Z
LAST-MODIFIED:20260420T080714Z
UID:32983-1783076400-1783184400@historyofwomenphilosophers.org
SUMMARY:Seminar: Husserl and Stein on the Relation between Motivation and Causality
DESCRIPTION:Course Description\nBoth Edmund Husserl and Edith Stein assume a fundamental distinction between the domains of nature and mind. Accordingly\, natural and mental events are governed by different kinds of laws. While natural events are subject to causal laws\, the domain of the mental is structured by a specific form of causality—namely\, motivation. \nThe seminar aims to examine selected texts by Husserl and Stein in order to understand the distinction between causality and motivation. \nOrganizer: Dr. Henning Peucker (Paderborn University\, Germany) & Prof. Dr. Mette Lebech (Maynooth University\, Ireland) \nSchedule\nFirst Block: \n\nFriday\, July 3\, 2026\n\n11:00–13:00 (Room C 4 234)\n14:00–18:00 (Room E 2 304)\n\n\nSaturday\, July 4\, 2026\n\n10:00–17:00 (Room E 2 304)\n\n\n\nSecond Block: \n\nFriday\, July 10\, 2026\n\n11:00–13:00 (room not specified)\n14:00–18:00 (room not specified)\n\n\nSaturday\, July 11\, 2026\n\n10:00–17:00 (room not specified)
URL:https://historyofwomenphilosophers.org/event/seminar-husserl-and-stein-on-the-relation-between-motivation-and-causality/
LOCATION:University Paderborn\, Warburger Str. 100\, Paderborn\, Nordrhein-Westfalen\, 33098\, Germany
CATEGORIES:Seminar
END:VEVENT
END:VCALENDAR